BEGIN:VCALENDAR
VERSION:2.0
PRODID:-//Squarespace Inc/Squarespace 6//v6//EN
BEGIN:VEVENT
UID:5ae6ade02b6a28c108397bac@squarespace.com
DTSTAMP:20180501T045356Z
DTSTART:20180602T183000Z
DTEND:20180604T220000Z
SUMMARY:SYDNEY JUNE 2018
END:VEVENT
END:VCALENDAR
